BEGIN:VCALENDAR
VERSION:2.0
PRODID:-//ISA - Houston Section - ECPv6.15.18//NONSGML v1.0//EN
CALSCALE:GREGORIAN
METHOD:PUBLISH
X-WR-CALNAME:ISA - Houston Section
X-ORIGINAL-URL:https://www.houstonisa.org
X-WR-CALDESC:Events for ISA - Houston Section
REFRESH-INTERVAL;VALUE=DURATION:PT1H
X-Robots-Tag:noindex
X-PUBLISHED-TTL:PT1H
BEGIN:VTIMEZONE
TZID:America/Chicago
BEGIN:DAYLIGHT
TZOFFSETFROM:-0600
TZOFFSETTO:-0500
TZNAME:CDT
DTSTART:20210314T080000
END:DAYLIGHT
BEGIN:STANDARD
TZOFFSETFROM:-0500
TZOFFSETTO:-0600
TZNAME:CST
DTSTART:20211107T070000
END:STANDARD
BEGIN:DAYLIGHT
TZOFFSETFROM:-0600
TZOFFSETTO:-0500
TZNAME:CDT
DTSTART:20220313T080000
END:DAYLIGHT
BEGIN:STANDARD
TZOFFSETFROM:-0500
TZOFFSETTO:-0600
TZNAME:CST
DTSTART:20221106T070000
END:STANDARD
BEGIN:DAYLIGHT
TZOFFSETFROM:-0600
TZOFFSETTO:-0500
TZNAME:CDT
DTSTART:20230312T080000
END:DAYLIGHT
BEGIN:STANDARD
TZOFFSETFROM:-0500
TZOFFSETTO:-0600
TZNAME:CST
DTSTART:20231105T070000
END:STANDARD
BEGIN:DAYLIGHT
TZOFFSETFROM:-0600
TZOFFSETTO:-0500
TZNAME:CDT
DTSTART:20240310T080000
END:DAYLIGHT
BEGIN:STANDARD
TZOFFSETFROM:-0500
TZOFFSETTO:-0600
TZNAME:CST
DTSTART:20241103T070000
END:STANDARD
END:VTIMEZONE
BEGIN:VEVENT
DTSTART;TZID=America/Chicago:20231018T180000
DTEND;TZID=America/Chicago:20231018T200000
DTSTAMP:20260422T010355
CREATED:20230327T054720Z
LAST-MODIFIED:20230327T054720Z
UID:10000056-1697652000-1697659200@www.houstonisa.org
SUMMARY:CSE PE Exam Study Group Safety Systems Part 2
DESCRIPTION:For seven years\, in the ten (10) weeks leading up to the Principles and Practice of Engineering (PE) exam for Control Systems Engineering (CSE)\, the ISA Houston Section has offered to help members prepare for the exam by hosting weekly study group sessions at a convenient local venue. \nWith a participant success rate of ~80%\, the study sessions are a valuable tool in the licensing process since the NCEES board does not have any official study material for the CSE PE exam (http://ncees.org/exams/exam-preparation-materials/exam-prep-materials/) \nTo Register Use Form At Bottom Of This Page.
URL:https://www.houstonisa.org/event/cse-pe-exam-study-group-safety-systems-part-2-2023/
LOCATION:EDG Inc.\, 10777 Westheimer Rd #700\, Houston\, 77042\, United States
CATEGORIES:Training,Professional-Engineering
ORGANIZER;CN="Glen Wood":MAILTO:glnwd15@gmail.com
END:VEVENT
BEGIN:VEVENT
DTSTART;TZID=America/Chicago:20231011T180000
DTEND;TZID=America/Chicago:20231011T200000
DTSTAMP:20260422T010355
CREATED:20230327T054603Z
LAST-MODIFIED:20230327T054728Z
UID:10000055-1697047200-1697054400@www.houstonisa.org
SUMMARY:CSE PE Exam Study Group Safety Systems Part 1
DESCRIPTION:For seven years\, in the ten (10) weeks leading up to the Principles and Practice of Engineering (PE) exam for Control Systems Engineering (CSE)\, the ISA Houston Section has offered to help members prepare for the exam by hosting weekly study group sessions at a convenient local venue. \nWith a participant success rate of ~80%\, the study sessions are a valuable tool in the licensing process since the NCEES board does not have any official study material for the CSE PE exam (http://ncees.org/exams/exam-preparation-materials/exam-prep-materials/) \nTo Register Use Form At Bottom Of This Page.
URL:https://www.houstonisa.org/event/cse-pe-exam-study-group-safety-systems-part-1-2023/
LOCATION:EDG Inc.\, 10777 Westheimer Rd #700\, Houston\, 77042\, United States
CATEGORIES:Training,Professional-Engineering
ORGANIZER;CN="Glen Wood":MAILTO:glnwd15@gmail.com
END:VEVENT
BEGIN:VEVENT
DTSTART;TZID=America/Chicago:20231004T180000
DTEND;TZID=America/Chicago:20231004T200000
DTSTAMP:20260422T010355
CREATED:20230327T054527Z
LAST-MODIFIED:20230327T054527Z
UID:10000054-1696442400-1696449600@www.houstonisa.org
SUMMARY:CSE PE Exam Study Group Signals\, Transmission\, and Networking Part 2
DESCRIPTION:For seven years\, in the ten (10) weeks leading up to the Principles and Practice of Engineering (PE) exam for Control Systems Engineering (CSE)\, the ISA Houston Section has offered to help members prepare for the exam by hosting weekly study group sessions at a convenient local venue. \nWith a participant success rate of ~80%\, the study sessions are a valuable tool in the licensing process since the NCEES board does not have any official study material for the CSE PE exam (http://ncees.org/exams/exam-preparation-materials/exam-prep-materials/) \nTo Register Use Form At Bottom Of This Page.
URL:https://www.houstonisa.org/event/cse-pe-exam-study-group-signals-transmission-networking-part-2-2023/
LOCATION:EDG Inc.\, 10777 Westheimer Rd #700\, Houston\, 77042\, United States
CATEGORIES:Training,Professional-Engineering
ORGANIZER;CN="Glen Wood":MAILTO:glnwd15@gmail.com
END:VEVENT
BEGIN:VEVENT
DTSTART;TZID=America/Chicago:20230927T180000
DTEND;TZID=America/Chicago:20230927T200000
DTSTAMP:20260422T010355
CREATED:20230327T054508Z
LAST-MODIFIED:20230327T054508Z
UID:10000053-1695837600-1695844800@www.houstonisa.org
SUMMARY:CSE PE Exam Study Group Signals\, Transmission\, and Networking Part 1
DESCRIPTION:For seven years\, in the ten (10) weeks leading up to the Principles and Practice of Engineering (PE) exam for Control Systems Engineering (CSE)\, the ISA Houston Section has offered to help members prepare for the exam by hosting weekly study group sessions at a convenient local venue. \nWith a participant success rate of ~80%\, the study sessions are a valuable tool in the licensing process since the NCEES board does not have any official study material for the CSE PE exam (http://ncees.org/exams/exam-preparation-materials/exam-prep-materials/) \nTo Register Use Form At Bottom Of This Page.
URL:https://www.houstonisa.org/event/cse-pe-exam-study-group-signals-transmission-networking-part-1-2023/
LOCATION:EDG Inc.\, 10777 Westheimer Rd #700\, Houston\, 77042\, United States
CATEGORIES:Training,Professional-Engineering
ORGANIZER;CN="Glen Wood":MAILTO:glnwd15@gmail.com
END:VEVENT
BEGIN:VEVENT
DTSTART;TZID=America/Chicago:20230920T180000
DTEND;TZID=America/Chicago:20230920T200000
DTSTAMP:20260422T010355
CREATED:20230327T054402Z
LAST-MODIFIED:20230327T054402Z
UID:10000052-1695232800-1695240000@www.houstonisa.org
SUMMARY:CSE PE Exam Study Group Final Control Elements Part 2
DESCRIPTION:For seven years\, in the ten (10) weeks leading up to the Principles and Practice of Engineering (PE) exam for Control Systems Engineering (CSE)\, the ISA Houston Section has offered to help members prepare for the exam by hosting weekly study group sessions at a convenient local venue. \nWith a participant success rate of ~80%\, the study sessions are a valuable tool in the licensing process since the NCEES board does not have any official study material for the CSE PE exam (http://ncees.org/exams/exam-preparation-materials/exam-prep-materials/) \nTo Register Use Form At Bottom Of This Page.
URL:https://www.houstonisa.org/event/cse-pe-exam-study-group-final-control-elements-part-2-2023/
LOCATION:EDG Inc.\, 10777 Westheimer Rd #700\, Houston\, 77042\, United States
CATEGORIES:Training,Professional-Engineering
ORGANIZER;CN="Glen Wood":MAILTO:glnwd15@gmail.com
END:VEVENT
BEGIN:VEVENT
DTSTART;TZID=America/Chicago:20230913T180000
DTEND;TZID=America/Chicago:20230913T200000
DTSTAMP:20260422T010355
CREATED:20230327T054238Z
LAST-MODIFIED:20230327T054238Z
UID:10000051-1694628000-1694635200@www.houstonisa.org
SUMMARY:CSE PE Exam Study Group Final Control Elements Part 1
DESCRIPTION:For seven years\, in the ten (10) weeks leading up to the Principles and Practice of Engineering (PE) exam for Control Systems Engineering (CSE)\, the ISA Houston Section has offered to help members prepare for the exam by hosting weekly study group sessions at a convenient local venue. \nWith a participant success rate of ~80%\, the study sessions are a valuable tool in the licensing process since the NCEES board does not have any official study material for the CSE PE exam (http://ncees.org/exams/exam-preparation-materials/exam-prep-materials/) \nTo Register Use Form At Bottom Of This Page.
URL:https://www.houstonisa.org/event/cse-pe-exam-study-group-final-control-elements-part-1-2023/
LOCATION:EDG Inc.\, 10777 Westheimer Rd #700\, Houston\, 77042\, United States
CATEGORIES:Training,Professional-Engineering
ORGANIZER;CN="Glen Wood":MAILTO:glnwd15@gmail.com
END:VEVENT
BEGIN:VEVENT
DTSTART;TZID=America/Chicago:20230906T180000
DTEND;TZID=America/Chicago:20230906T200000
DTSTAMP:20260422T010355
CREATED:20230327T054133Z
LAST-MODIFIED:20230327T054133Z
UID:10000160-1694023200-1694030400@www.houstonisa.org
SUMMARY:CSE PE Exam Study Group Control Systems Part 2
DESCRIPTION:For seven years\, in the ten (10) weeks leading up to the Principles and Practice of Engineering (PE) exam for Control Systems Engineering (CSE)\, the ISA Houston Section has offered to help members prepare for the exam by hosting weekly study group sessions at a convenient local venue. \nWith a participant success rate of ~80%\, the study sessions are a valuable tool in the licensing process since the NCEES board does not have any official study material for the CSE PE exam (http://ncees.org/exams/exam-preparation-materials/exam-prep-materials/) \nTo Register Use Form At Bottom Of This Page.
URL:https://www.houstonisa.org/event/cse-pe-exam-study-group-control-systems-part-2-2023/
LOCATION:EDG Inc.\, 10777 Westheimer Rd #700\, Houston\, 77042\, United States
CATEGORIES:Training,Professional-Engineering
ORGANIZER;CN="Glen Wood":MAILTO:glnwd15@gmail.com
END:VEVENT
BEGIN:VEVENT
DTSTART;TZID=America/Chicago:20230830T180000
DTEND;TZID=America/Chicago:20230830T200000
DTSTAMP:20260422T010355
CREATED:20230327T053429Z
LAST-MODIFIED:20230327T053505Z
UID:10000159-1693418400-1693425600@www.houstonisa.org
SUMMARY:CSE PE Exam Study Group Control Systems Part 1
DESCRIPTION:For seven years\, in the ten (10) weeks leading up to the Principles and Practice of Engineering (PE) exam for Control Systems Engineering (CSE)\, the ISA Houston Section has offered to help members prepare for the exam by hosting weekly study group sessions at a convenient local venue. \nWith a participant success rate of ~80%\, the study sessions are a valuable tool in the licensing process since the NCEES board does not have any official study material for the CSE PE exam (http://ncees.org/exams/exam-preparation-materials/exam-prep-materials/) \nTo Register Use Form At Bottom Of This Page.
URL:https://www.houstonisa.org/event/cse-pe-exam-study-group-control-systems-part-1-2023/
LOCATION:EDG Inc.\, 10777 Westheimer Rd #700\, Houston\, 77042\, United States
CATEGORIES:Training,Professional-Engineering
ORGANIZER;CN="Glen Wood":MAILTO:glnwd15@gmail.com
END:VEVENT
BEGIN:VEVENT
DTSTART;TZID=America/Chicago:20230823T180000
DTEND;TZID=America/Chicago:20230823T200000
DTSTAMP:20260422T010355
CREATED:20230327T052846Z
LAST-MODIFIED:20230327T053113Z
UID:10000158-1692813600-1692820800@www.houstonisa.org
SUMMARY:CSE PE Exam Study Group Measurement Part 2 - Pressure\, Flow\, and Analyzers
DESCRIPTION:For seven years\, in the ten (10) weeks leading up to the Principles and Practice of Engineering (PE) exam for Control Systems Engineering (CSE)\, the ISA Houston Section has offered to help members prepare for the exam by hosting weekly study group sessions at a convenient local venue. \nWith a participant success rate of ~80%\, the study sessions are a valuable tool in the licensing process since the NCEES board does not have any official study material for the CSE PE exam (http://ncees.org/exams/exam-preparation-materials/exam-prep-materials/) \nTo Register Use Form At Bottom Of This Page.
URL:https://www.houstonisa.org/event/cse-pe-exam-study-group-measurement-part-2-2023/
LOCATION:EDG Inc.\, 10777 Westheimer Rd #700\, Houston\, 77042\, United States
CATEGORIES:Training,Professional-Engineering
ORGANIZER;CN="Glen Wood":MAILTO:glnwd15@gmail.com
END:VEVENT
BEGIN:VEVENT
DTSTART;TZID=America/Chicago:20230816T180000
DTEND;TZID=America/Chicago:20230816T200000
DTSTAMP:20260422T010355
CREATED:20230327T052201Z
LAST-MODIFIED:20230327T053125Z
UID:10000157-1692208800-1692216000@www.houstonisa.org
SUMMARY:CSE PE Exam Study Group Measurement Part 1 - Level and Temperature
DESCRIPTION:For seven years\, in the ten (10) weeks leading up to the Principles and Practice of Engineering (PE) exam for Control Systems Engineering (CSE)\, the ISA Houston Section has offered to help members prepare for the exam by hosting weekly study group sessions at a convenient local venue. \nWith a participant success rate of ~80%\, the study sessions are a valuable tool in the licensing process since the NCEES board does not have any official study material for the CSE PE exam (http://ncees.org/exams/exam-preparation-materials/exam-prep-materials/) \nTo Register Use Form At Bottom Of This Page.
URL:https://www.houstonisa.org/event/cse-pe-exam-study-group-measurement-part-1-level-and-temperature-2023/
LOCATION:EDG Inc.\, 10777 Westheimer Rd #700\, Houston\, 77042\, United States
CATEGORIES:Training,Professional-Engineering
ORGANIZER;CN="Glen Wood":MAILTO:glnwd15@gmail.com
END:VEVENT
BEGIN:VEVENT
DTSTART;TZID=America/Chicago:20221012T180000
DTEND;TZID=America/Chicago:20221012T200000
DTSTAMP:20260422T010355
CREATED:20220706T174528Z
LAST-MODIFIED:20220706T174528Z
UID:10000148-1665597600-1665604800@www.houstonisa.org
SUMMARY:CSE PE Exam Study Group Safety Systems Part 2
DESCRIPTION:For seven years\, in the ten (10) weeks leading up to the Principles and Practice of Engineering (PE) exam for Control Systems Engineering (CSE)\, the ISA Houston Section has offered to help members prepare for the exam by hosting weekly study group sessions at a convenient local venue. \nWith a participant success rate of ~80%\, the study sessions are a valuable tool in the licensing process since the NCEES board does not have any official study material for the CSE PE exam (http://ncees.org/exams/exam-preparation-materials/exam-prep-materials/) \nTo Register Use Form At Bottom Of This Page.
URL:https://www.houstonisa.org/event/cse-pe-exam-study-group-safety-systems-part-2/
LOCATION:EDG Inc.\, 10777 Westheimer Rd #700\, Houston\, 77042\, United States
CATEGORIES:Training,Professional-Engineering
ORGANIZER;CN="Glen Wood":MAILTO:glnwd15@gmail.com
END:VEVENT
BEGIN:VEVENT
DTSTART;TZID=America/Chicago:20221005T180000
DTEND;TZID=America/Chicago:20221005T200000
DTSTAMP:20260422T010355
CREATED:20220706T174341Z
LAST-MODIFIED:20220706T174341Z
UID:10000147-1664992800-1665000000@www.houstonisa.org
SUMMARY:CSE PE Exam Study Group Safety Systems Part 1
DESCRIPTION:For seven years\, in the ten (10) weeks leading up to the Principles and Practice of Engineering (PE) exam for Control Systems Engineering (CSE)\, the ISA Houston Section has offered to help members prepare for the exam by hosting weekly study group sessions at a convenient local venue. \nWith a participant success rate of ~80%\, the study sessions are a valuable tool in the licensing process since the NCEES board does not have any official study material for the CSE PE exam (http://ncees.org/exams/exam-preparation-materials/exam-prep-materials/) \nTo Register Use Form At Bottom Of This Page.
URL:https://www.houstonisa.org/event/cse-pe-exam-study-group-safety-systems-part-1/
LOCATION:EDG Inc.\, 10777 Westheimer Rd #700\, Houston\, 77042\, United States
CATEGORIES:Training,Professional-Engineering
ORGANIZER;CN="Glen Wood":MAILTO:glnwd15@gmail.com
END:VEVENT
BEGIN:VEVENT
DTSTART;TZID=America/Chicago:20220928T180000
DTEND;TZID=America/Chicago:20220928T200000
DTSTAMP:20260422T010355
CREATED:20220706T174105Z
LAST-MODIFIED:20220706T174105Z
UID:10000146-1664388000-1664395200@www.houstonisa.org
SUMMARY:CSE PE Exam Study Group Signals\, Transmission\, and Networking Part 2
DESCRIPTION:For seven years\, in the ten (10) weeks leading up to the Principles and Practice of Engineering (PE) exam for Control Systems Engineering (CSE)\, the ISA Houston Section has offered to help members prepare for the exam by hosting weekly study group sessions at a convenient local venue. \nWith a participant success rate of ~80%\, the study sessions are a valuable tool in the licensing process since the NCEES board does not have any official study material for the CSE PE exam (http://ncees.org/exams/exam-preparation-materials/exam-prep-materials/) \nTo Register Use Form At Bottom Of This Page.
URL:https://www.houstonisa.org/event/cse-pe-exam-study-group-signals-transmission-and-networking-part-2/
LOCATION:EDG Inc.\, 10777 Westheimer Rd #700\, Houston\, 77042\, United States
CATEGORIES:Training,Professional-Engineering
ORGANIZER;CN="Glen Wood":MAILTO:glnwd15@gmail.com
END:VEVENT
BEGIN:VEVENT
DTSTART;TZID=America/Chicago:20220921T180000
DTEND;TZID=America/Chicago:20220921T200000
DTSTAMP:20260422T010355
CREATED:20220706T173718Z
LAST-MODIFIED:20220706T173756Z
UID:10000145-1663783200-1663790400@www.houstonisa.org
SUMMARY:CSE PE Exam Study Group Signals\, Transmission\, and Networking Part 1
DESCRIPTION:For seven years\, in the ten (10) weeks leading up to the Principles and Practice of Engineering (PE) exam for Control Systems Engineering (CSE)\, the ISA Houston Section has offered to help members prepare for the exam by hosting weekly study group sessions at a convenient local venue. \nWith a participant success rate of ~80%\, the study sessions are a valuable tool in the licensing process since the NCEES board does not have any official study material for the CSE PE exam (http://ncees.org/exams/exam-preparation-materials/exam-prep-materials/) \nTo Register Use Form At Bottom Of This Page.
URL:https://www.houstonisa.org/event/cse-pe-exam-study-group-signals-transmission-and-networking-part-1/
LOCATION:EDG Inc.\, 10777 Westheimer Rd #700\, Houston\, 77042\, United States
CATEGORIES:Training,Professional-Engineering
ORGANIZER;CN="Glen Wood":MAILTO:glnwd15@gmail.com
END:VEVENT
BEGIN:VEVENT
DTSTART;TZID=America/Chicago:20220914T180000
DTEND;TZID=America/Chicago:20220914T200000
DTSTAMP:20260422T010355
CREATED:20220706T173527Z
LAST-MODIFIED:20220706T173527Z
UID:10000144-1663178400-1663185600@www.houstonisa.org
SUMMARY:CSE PE Exam Study Group Final Control Elements Part 2
DESCRIPTION:For seven years\, in the ten (10) weeks leading up to the Principles and Practice of Engineering (PE) exam for Control Systems Engineering (CSE)\, the ISA Houston Section has offered to help members prepare for the exam by hosting weekly study group sessions at a convenient local venue. \nWith a participant success rate of ~80%\, the study sessions are a valuable tool in the licensing process since the NCEES board does not have any official study material for the CSE PE exam (http://ncees.org/exams/exam-preparation-materials/exam-prep-materials/) \nTo Register Use Form At Bottom Of This Page.
URL:https://www.houstonisa.org/event/cse-pe-exam-study-group-final-control-elements-part-2/
LOCATION:EDG Inc.\, 10777 Westheimer Rd #700\, Houston\, 77042\, United States
CATEGORIES:Training,Professional-Engineering
ORGANIZER;CN="Glen Wood":MAILTO:glnwd15@gmail.com
END:VEVENT
BEGIN:VEVENT
DTSTART;TZID=America/Chicago:20220907T180000
DTEND;TZID=America/Chicago:20220907T200000
DTSTAMP:20260422T010355
CREATED:20220706T173216Z
LAST-MODIFIED:20220706T173216Z
UID:10000050-1662573600-1662580800@www.houstonisa.org
SUMMARY:CSE PE Exam Study Group Final Control Elements Part 1
DESCRIPTION:For seven years\, in the ten (10) weeks leading up to the Principles and Practice of Engineering (PE) exam for Control Systems Engineering (CSE)\, the ISA Houston Section has offered to help members prepare for the exam by hosting weekly study group sessions at a convenient local venue. \nWith a participant success rate of ~80%\, the study sessions are a valuable tool in the licensing process since the NCEES board does not have any official study material for the CSE PE exam (http://ncees.org/exams/exam-preparation-materials/exam-prep-materials/) \nTo Register Use Form At Bottom Of This Page.
URL:https://www.houstonisa.org/event/cse-pe-exam-study-group-final-control-elements-part-1/
LOCATION:EDG Inc.\, 10777 Westheimer Rd #700\, Houston\, 77042\, United States
CATEGORIES:Training,Professional-Engineering
ORGANIZER;CN="Glen Wood":MAILTO:glnwd15@gmail.com
END:VEVENT
BEGIN:VEVENT
DTSTART;TZID=America/Chicago:20220831T180000
DTEND;TZID=America/Chicago:20220831T200000
DTSTAMP:20260422T010355
CREATED:20220706T172540Z
LAST-MODIFIED:20220706T173026Z
UID:10000049-1661968800-1661976000@www.houstonisa.org
SUMMARY:CSE PE Exam Study Group Control Systems Part 2
DESCRIPTION:For seven years\, in the ten (10) weeks leading up to the Principles and Practice of Engineering (PE) exam for Control Systems Engineering (CSE)\, the ISA Houston Section has offered to help members prepare for the exam by hosting weekly study group sessions at a convenient local venue. \nWith a participant success rate of ~80%\, the study sessions are a valuable tool in the licensing process since the NCEES board does not have any official study material for the CSE PE exam (http://ncees.org/exams/exam-preparation-materials/exam-prep-materials/) \nTo Register Use Form At Bottom Of This Page.
URL:https://www.houstonisa.org/event/cse-pe-exam-study-group-control-systems-part-2/
LOCATION:EDG Inc.\, 10777 Westheimer Rd #700\, Houston\, 77042\, United States
CATEGORIES:Training,Professional-Engineering
ORGANIZER;CN="Glen Wood":MAILTO:glnwd15@gmail.com
END:VEVENT
BEGIN:VEVENT
DTSTART;TZID=America/Chicago:20220824T180000
DTEND;TZID=America/Chicago:20220824T200000
DTSTAMP:20260422T010355
CREATED:20220706T172230Z
LAST-MODIFIED:20220706T172908Z
UID:10000048-1661364000-1661371200@www.houstonisa.org
SUMMARY:CSE PE Exam Study Group Control Systems Part 1
DESCRIPTION:For seven years\, in the ten (10) weeks leading up to the Principles and Practice of Engineering (PE) exam for Control Systems Engineering (CSE)\, the ISA Houston Section has offered to help members prepare for the exam by hosting weekly study group sessions at a convenient local venue. \nWith a participant success rate of ~80%\, the study sessions are a valuable tool in the licensing process since the NCEES board does not have any official study material for the CSE PE exam (http://ncees.org/exams/exam-preparation-materials/exam-prep-materials/) \nTo Register Use Form At Bottom Of This Page. \n \n 
URL:https://www.houstonisa.org/event/cse-pe-exam-study-group-control-systems-part-1/
LOCATION:EDG Inc.\, 10777 Westheimer Rd #700\, Houston\, 77042\, United States
CATEGORIES:Training,Professional-Engineering
ORGANIZER;CN="Glen Wood":MAILTO:glnwd15@gmail.com
END:VEVENT
END:VCALENDAR