BEGIN:VCALENDAR
VERSION:2.0
PRODID:-//ISA - Houston Section - ECPv6.15.18//NONSGML v1.0//EN
CALSCALE:GREGORIAN
METHOD:PUBLISH
X-ORIGINAL-URL:https://www.houstonisa.org
X-WR-CALDESC:Events for ISA - Houston Section
REFRESH-INTERVAL;VALUE=DURATION:PT1H
X-Robots-Tag:noindex
X-PUBLISHED-TTL:PT1H
BEGIN:VTIMEZONE
TZID:America/Chicago
BEGIN:DAYLIGHT
TZOFFSETFROM:-0600
TZOFFSETTO:-0500
TZNAME:CDT
DTSTART:20190310T080000
END:DAYLIGHT
BEGIN:STANDARD
TZOFFSETFROM:-0500
TZOFFSETTO:-0600
TZNAME:CST
DTSTART:20191103T070000
END:STANDARD
BEGIN:DAYLIGHT
TZOFFSETFROM:-0600
TZOFFSETTO:-0500
TZNAME:CDT
DTSTART:20200308T080000
END:DAYLIGHT
BEGIN:STANDARD
TZOFFSETFROM:-0500
TZOFFSETTO:-0600
TZNAME:CST
DTSTART:20201101T070000
END:STANDARD
BEGIN:DAYLIGHT
TZOFFSETFROM:-0600
TZOFFSETTO:-0500
TZNAME:CDT
DTSTART:20210314T080000
END:DAYLIGHT
BEGIN:STANDARD
TZOFFSETFROM:-0500
TZOFFSETTO:-0600
TZNAME:CST
DTSTART:20211107T070000
END:STANDARD
BEGIN:DAYLIGHT
TZOFFSETFROM:-0600
TZOFFSETTO:-0500
TZNAME:CDT
DTSTART:20220313T080000
END:DAYLIGHT
BEGIN:STANDARD
TZOFFSETFROM:-0500
TZOFFSETTO:-0600
TZNAME:CST
DTSTART:20221106T070000
END:STANDARD
END:VTIMEZONE
BEGIN:VEVENT
DTSTART;TZID=America/Chicago:20210505T113000
DTEND;TZID=America/Chicago:20210505T123000
DTSTAMP:20260421T222210
CREATED:20210426T040030Z
LAST-MODIFIED:20210426T040030Z
UID:10000124-1620214200-1620217800@www.houstonisa.org
SUMMARY:IoT – Is it just another flash in the pan\, here today gone tomorrow technology?
DESCRIPTION:INSTRUCTIONS: \nDownload and install Zoom software if necessary \nRegister in advance for this meeting: \nhttps://us02web.zoom.us/j/85711202319 \nAfter registering\, you will receive a confirmation email containing information about joining the meeting. \nYou may join the meeting starting at approximately 11:00 am for socializing and announcements \nThe presentation will begin at 11:30 am \nAbstract: \nSeveral months ago during an ISA Presentation about Blockchain Technology a question was asked.  “What about IoT?  Is it just another flash in the pan\, here today gone tomorrow technology?”  In this session\, opinions will be presented based on research that would indicate that not only is IoT here to stay but will continue to evolve as we move towards new ways to exchange data over wireless networks. \nPresenter: \n \nMarc Lawson \nBusiness Development Manager – IoT/M2M \nGround Control Global Satellite Solutions \nwww.groundcontrol.com \nmarc.lawson@groundcontrol.com \n\n8 year Veteran of United States Army Intelligence and Securities Command (INSCOM) – Electronic Warfare Specialist.\nOver 2 decades of selling and deploying wireless instrumentation\, SCADA systems\, and wireless IoT solutions.\n9 years of wireless IoT experience.\n5 year Committee Member of Houston Livestock Show and Rodeo\nPassionate Angler
URL:https://www.houstonisa.org/event/iot-is-it-just-another-flash-in-the-pan-here-today-gone-tomorrow-technology/
CATEGORIES:Event,ISA Houston Section Program
ORGANIZER;CN="Clifford D. Wuertz":MAILTO:cdwuertz@gmail.com
END:VEVENT
BEGIN:VEVENT
DTSTART;TZID=America/Chicago:20210407T113000
DTEND;TZID=America/Chicago:20210407T123000
DTSTAMP:20260421T222210
CREATED:20210322T052631Z
LAST-MODIFIED:20210325T050937Z
UID:10000013-1617795000-1617798600@www.houstonisa.org
SUMMARY:Gas Phase Compensation (GPC) in Level Applications
DESCRIPTION:INSTRUCTIONS:  \nDownload and install Zoom software if necessary \nRegister in advance for this meeting: \nhttps://us02web.zoom.us/meeting/register/tZYrcOGuqjssG9X1cr6tF0F7L45zIg5Z9dGW \nAfter registering\, you will receive a confirmation email containing information about joining the meeting. \nYou may join the meeting starting at approximately 11:00 am for socializing and announcements \nThe presentation will begin at 11:30 am \nABSTRACT:  \nThis discussion will center around using Guided Wave Radars in “Polar Gas” applications such as steam boilers\, ammonia and high pressure Hydrogen applications. We will discuss topics such as pulse velocity corrections vs. measuring the GPC correction methods as well as other techniques that are common in these types of applications such as differential pressure and displacer instrumentation. \nPRESENTER: \nChris Fournet\nTrainer / Senior Application Specialist \n \nA professional with over 31 years of instrumentation experience\, Chris Fournet will excite you with his wit and wisdom. Instrumentation is not only a job for Chris but a passion. He loves all aspects of the industry and enjoys helping the sales team and customers solve problems. Chris graduated with a Associate of Applied Science in Electronics and Instrumentation from Lamar University. Additionally\, he is certified from the Instrument Society of America(ISA) Certified Control Systems Technician (CCST) and earned Endress+Hauser’s Black Belt in Level\, Pressure\, Temperature and Service. He has obtained much of his experience working 22 years for Motiva as well as past positions with Texaco Research and Texaco Chemical. In 2014 he became part of the Vector CAG family as Senior Application Specialist. His Vector University training focus is on Instrument 101/102\, Level 101/102\, Pressure\, Temperature and Williamson Flare Products. He also provides other technical support to our sales team and customers. In his free time\, he enjoys playing in the dirt; riding dirt bikes\, 4 wheelers and side by sides.
URL:https://www.houstonisa.org/event/gas-phase-compensation-gpc-in-level-applications/
CATEGORIES:Event,ISA Houston Section Program
ORGANIZER;CN="Clifford D. Wuertz":MAILTO:cdwuertz@gmail.com
END:VEVENT
BEGIN:VEVENT
DTSTART;TZID=America/Chicago:20210303T113000
DTEND;TZID=America/Chicago:20210303T123000
DTSTAMP:20260421T222210
CREATED:20210221T012519Z
LAST-MODIFIED:20210226T201124Z
UID:10000011-1614771000-1614774600@www.houstonisa.org
SUMMARY:Using Improved Tunable Diode Laser Technology to Increase Fired Heater Reliability
DESCRIPTION:INSTRUCTIONS:  \nDownload and install Zoom software if necessary \nRegister in advance for this meeting:\nhttps://us02web.zoom.us/meeting/register/tZEtcOyqpjgvE9JEuDoXnOHXhDEBqLomigOT \nAfter registering\, you will receive a confirmation email containing information about joining the meeting. \nYou may join the meeting starting at approximately 11:00 am for socializing and announcements \nAbstract: \nFired heaters\, used to heat process fluids\, are critical pieces of equipment used continuously in refining and petrochemical operations globally. Large periods of downtime for these assets can cause millions of dollars in loss and limit downstream production if there are reliability issues. A common cause of reliability issues is related to overheating the convection section of the fired heater to compensate for inefficiencies in how the radiant section is operated. Utilizing recent advancements in Tunable Diode Laser (TDL) measurement capabilities allows users a measurement capability which enables safely increasing efficiencies in the radiant section’s operation to maximize reliability and product throughput while decreasing environmental impact. Recent TDL technology advancements have revolutionized the industry by allowing end users to safely run their assets at their operational limits. \nPresenter: Donald Wyatt \nDonald Wyatt has worked in the field of Analytical Instrumentation and Process Analyzers for 25+ years. He graduated from Auburn University in 1993 with a BS in Chemical Engineering. He joined Fisher Rosemount right out of school as a technical sales person in their Analytical Division. Three years later he moved on to Analytical Specialties (ASI)\, an analyzer only manufacturer’s representative firm\, where he spent the next twelve years providing analytical solutions. While working at ASI he worked as a member of the team that developed a TDLS platform. He participated in two Department of Energy projects: “Tunable Diode Laser Sensor for Monitoring and Control of Harsh Combustion Environments”\, and “Advanced Combustion Diagnostics and Control for Furnaces\, Fired Heaters and Boilers”. In 2008 Yokogawa purchased Analytical Specialties. Donald spent the next seven years managing the newly formed Yokogawa Laser Analysis Division. In 2015 he moved to TechStar where he currently is in Business Development. His two primary responsibilities include instrumentation and automation project support for many Engineering firms in the greater Houston area and as a subject matter expert supporting Tunable Diode Laser Spectrometer (TDLS) analytical applications. \n \n 
URL:https://www.houstonisa.org/event/using-improved-tunable-diode-laser-technology-to-increase-fired-heater-reliability/
CATEGORIES:Event,ISA Houston Section Program
ORGANIZER;CN="Clifford D. Wuertz":MAILTO:cdwuertz@gmail.com
END:VEVENT
BEGIN:VEVENT
DTSTART;TZID=America/Chicago:20210203T113000
DTEND;TZID=America/Chicago:20210203T123000
DTSTAMP:20260421T222210
CREATED:20210120T175957Z
LAST-MODIFIED:20210120T180128Z
UID:10000120-1612351800-1612355400@www.houstonisa.org
SUMMARY:Transformational Changes in Automation: Focus on Open Process Automation
DESCRIPTION:Abstract: \nThe hypothesis that transformation change is underway in process automation can be confirmed with the following evidence:\n• ISA’s new Smart Manufacturing and IIoT Division\n• Publication of Version 2.1 of the Open Process Automation Standard (O-PAS™) and the startup of O-PAS™ conformance certification\n• NAMUR Open Architecture and Module Type Package \nThe first part of this talk will overview these trends and discuss ISA’s role in Digital Transformation. \nThe second part of the talk will focus on Open Process Automation. We will discuss the status of the O-PAS™ standard and its associated conformance certification process. Also\, information on four end user company driven O-PAS™ system prototyping projects will be presented. \nPresenter: \nDon Bartusiak\nPresident\, Collaborative Systems Integration\nCo-Chair\, Open Process Automation Forum of The Open Group \nDon Bartusiak is President of Collaborative Systems Integration\, an Austin-based startup providing systems integration services and software products for Open Process Automation (O-PAS™) based systems. \nIn Oct 2020\, he retired from ExxonMobil Research and Engineering as Chief Engineer\, Process Control. He has 33 years of experience in process control with ExxonMobil\, and 7 years of experience in process development research with Bethlehem Steel. At ExxonMobil\, he has been a process control application engineer working on artificial intelligence\, linear and nonlinear model predictive control\, and real-time optimization at facilities in the U.S. and U.K in central engineering offices and in manufacturing. From the mid-1990s\, he held supervisory or senior technical positions with responsibility for instrumentation\, process analyzers\, control systems\, and control applications at facilities in Texas and Virginia. From 2000 to 2002\, he was Lecturer and Adjunct Professor of Chemical Engineering at Rice University. \nDon received a B.S. (ChemE) from the University of Pennsylvania and M.S. and Ph.D (ChemE) degrees from Lehigh University. \n \nINSTRUCTIONS: \nDownload and install Zoom software if necessary \nThe day before the meeting you will receive an email with the meeting ID and password \nYou may join the meeting starting at approximately 11:00 am for socializing and announcements \nThe presentation will begin at 11:30 am
URL:https://www.houstonisa.org/event/transformational-changes-in-automation-focus-on-open-process-automation/
CATEGORIES:Event,ISA Houston Section Program
ATTACH;FMTTYPE=image/jpeg:https://www.houstonisa.org/wp-content/uploads/2019/09/training-default.jpg
ORGANIZER;CN="Clifford D. Wuertz":MAILTO:cdwuertz@gmail.com
END:VEVENT
BEGIN:VEVENT
DTSTART;TZID=America/Chicago:20201202T113000
DTEND;TZID=America/Chicago:20201202T123000
DTSTAMP:20260421T222210
CREATED:20201115T003711Z
LAST-MODIFIED:20201115T003711Z
UID:10000114-1606908600-1606912200@www.houstonisa.org
SUMMARY:New Developments in Multivariable Model Predictive Control
DESCRIPTION:Abstract: \nIndustrial operations are constantly challenged with improving production rates\, yields\, energy efficiency and process stability. Multivariable Model Predictive Control has proven to be an effective tool for improving operations by utilizing the full process capabilities consistently. However\, the skills required to implement the technology and sustain the substantial benefits has been hampered by the usability of the software and adaptability of the applications. \nMany new technology developments have improved the usability and adaptability of multivariable model predictive control. These developments include modern and intuitive user interfaces\, customizable models to support unique process behavior\, fast and flexible OPC connection tools\, automated model building\, integration with first principles dynamic models\, improved performance monitoring among others. This presentation will review the new technology developments that have improved the usability and adaptability of advanced process control and how they impact industrial operations of many types. \nPresenter: \nBill Poe\, Technical Adviser for AVEVA. \n \nBill Poe is a Technical Advisor at AVEVA with over 35 years of experience in operations\, project development\, implementation and management of advanced process control\, optimization and real-time performance monitoring projects in a variety of industries. Prior to AVEVA\, Bill held positions at Shell Oil Company\, GE and Schneider Electric. He has several patents\, achieved a President’s Award at Shell Oil\, received the GE Innovators Award and attained the Invensys Circle of Excellence. Bill holds a bachelor’s degree from Georgia Institute of Technology and a Master of Science from Columbia University both in Chemical Engineering. \nInstructions: \nDownload and install Zoom software if necessary\nVisit www.houstonisa.org and register with your name and email\nThe day before the meeting you will receive an email with the meeting ID and password\nYou may join the meeting starting at approximately 11:00 am for socializing and announcements\nThe presentation will begin at 11:30 am \n 
URL:https://www.houstonisa.org/event/new-developments-in-multivariable-model-predictive-control/
CATEGORIES:Event,ISA Houston Section Program
ORGANIZER;CN="Clifford D. Wuertz":MAILTO:cdwuertz@gmail.com
END:VEVENT
BEGIN:VEVENT
DTSTART;TZID=America/Chicago:20201105T140000
DTEND;TZID=America/Chicago:20201105T150000
DTSTAMP:20260421T222210
CREATED:20201030T011820Z
LAST-MODIFIED:20201030T011930Z
UID:10000112-1604584800-1604588400@www.houstonisa.org
SUMMARY:TBPELS Ethics Webinar
DESCRIPTION:The Board is offering these free ethics webinars to assist license holders with meeting their ethics requirement. Each webinar provides an up-to-date overview of agency activities\, case studies\, and a review of professional ethics topics. \nWebinar ID: 827-775-987 \nPresenter: \nTexas Board of Professional Engineers and Land Surveyors \nInstructions: \nClick on this link to register \nhttps://attendee.gotowebinar.com/register/6296219604808345871 \nAdditional information available at https://engineers.texas.gov/webinars.html \n  \n 
URL:https://www.houstonisa.org/event/tbpels-ethics-webinar/
CATEGORIES:Event,ISA Houston Section Program
ATTACH;FMTTYPE=image/png:https://www.houstonisa.org/wp-content/uploads/2020/10/TBPELS.png
ORGANIZER;CN="Clifford D. Wuertz":MAILTO:cdwuertz@gmail.com
END:VEVENT
BEGIN:VEVENT
DTSTART;TZID=America/Chicago:20201007T113000
DTEND;TZID=America/Chicago:20201007T123000
DTSTAMP:20260421T222210
CREATED:20201001T165729Z
LAST-MODIFIED:20201001T165729Z
UID:10000111-1602070200-1602073800@www.houstonisa.org
SUMMARY:pH for Industrial Applications
DESCRIPTION:Abstract: \nAnalytical Instrumentation Considerations: Effective process control extends beyond the addition of analyzers. Other issues that need to be addressed include selecting the optimal measurement locations\, developing or adopting appropriate control strategies\, and making the commitment to maintain the analyzers. This discussion will cover some basic analyzer fundamentals for pH\, ORP and Dissolved Oxygen as well as operational considerations for these parameters. \nPresenter: \n \nMelissa G. Davis \nPresenter’s Biography: \nMelissa Davis is an Application Development Manager at Hach Company.  She has 15+ years of experience covering electrochemistry applications (pH\, ORP\, Dissolved Oxygen\, Conductivity\, ORP\, and Ion Selective Sensors).  Her BS degree is in Biology from University of Texas at Arlington.  In her current role\, she supports market development and sales support for emerging markets. \nInstructions: \n\n\n\nDownload and install Zoom software if necessary \nRegister with your name and email \nThe day before the meeting you will receive an email with the meeting ID and password \nYou may join the meeting starting at approximately 11:00 am for socializing and announcements \nThe presentation will begin at 11:30 am \n 
URL:https://www.houstonisa.org/event/ph-for-industrial-applications/
CATEGORIES:Event,ISA Houston Section Program
ORGANIZER;CN="Clifford D. Wuertz":MAILTO:cdwuertz@gmail.com
END:VEVENT
BEGIN:VEVENT
DTSTART;TZID=America/Chicago:20200902T113000
DTEND;TZID=America/Chicago:20200902T123000
DTSTAMP:20260421T222210
CREATED:20200812T043652Z
LAST-MODIFIED:20200812T043720Z
UID:10000062-1599046200-1599049800@www.houstonisa.org
SUMMARY:Camouflage – Poor Practices in HMI Design
DESCRIPTION:Abstract: \nCamouflage is the art of making things more difficult to see. Surprisingly\, the principles of camouflage can be found in many HMI practices being touted today as “improvements” over past practices. Such poor designs are easily found on the web\, in magazine articles\, in vendor promotional materials\, and in delivered work products of graphics designers. In this talk\, examples of such practices will be shown\, and contrasted to clean\, clear\, crisp\, and legible visualizations that would provide operators with a much clearer understanding of process conditions. \nPresenter: \n \nBill Hollifield \nBill is an ISA Fellow with over 40 years of industrial engineering\, control\, and consulting experience. He wrote two books – The Alarm Management Handbook and The High Performance HMI Handbook\, and participates in the ISA-18.2 (Alarm Mgt) and 101 (HMI) standards committees. Bill has (finally) semi-retired. He’s a pilot and built his own plane – an RV-12. \nInstructions: \nDownload and install Zoom software if necessary \nRegister using the form below. \nThe day before the meeting you will receive an email with the meeting ID and password \nYou may join the meeting starting at approximately 11:00 am for socializing and announcements \nThe presentation will begin at 11:30 am \nNo Charge For ISA Members!
URL:https://www.houstonisa.org/event/camouflage-poor-practices-in-hmi-design/
CATEGORIES:Event,ISA Houston Section Program
ATTACH;FMTTYPE=image/gif:https://www.houstonisa.org/wp-content/uploads/2020/08/some-HMI-screens-can-cause-confusion-for-the-operator-instead-of-creating-clarity.gif
ORGANIZER;CN="Clifford D. Wuertz":MAILTO:cdwuertz@gmail.com
END:VEVENT
BEGIN:VEVENT
DTSTART;TZID=America/Chicago:20200527T113000
DTEND;TZID=America/Chicago:20200527T123000
DTSTAMP:20260421T222210
CREATED:20200508T195440Z
LAST-MODIFIED:20200508T200031Z
UID:10000042-1590579000-1590582600@www.houstonisa.org
SUMMARY:State Based Control the Iterative Agile Way
DESCRIPTION:Abstract: \nDespite the significant benefits that State Based (ISA-106) control presents many balk at it because of the higher cost of implementation.  By using Agile Programming Methodology and Iterative Testing the benefits of State Based Control can be seen at a more competitive cost. \nPresenter: \nRocky Chambers (joining us from Baton Rouge) \nAutomation Specialist – Maverick Technologies \n40 years of experience in the Automation world\, 31 years with Dow Chemical 9 years with Maverick Technologies.  Exposure to multiple platforms.  Has been working with State Based Control systems since 1985.  Has expertise in Burner Management\, SIS\, Boilers as well as various other processes. \nThis Event Is Worth 1 PDH (Professional Development Hour) \nInstructions: \nDownload and install Zoom software if necessary \nRegister using the form below. \nThe day before the meeting you will receive an email with the meeting ID and password \nYou may join the meeting starting at approximately 11:00 am for socializing and announcements \nThe presentation will begin at 11:30 am \nNo Charge For ISA Members! \n 
URL:https://www.houstonisa.org/event/state-based-control-the-iterative-agile-way/
LOCATION:TX\, United States
CATEGORIES:Event,ISA Houston Section Program
ORGANIZER;CN="Clifford D. Wuertz":MAILTO:cdwuertz@gmail.com
END:VEVENT
BEGIN:VEVENT
DTSTART;TZID=America/Chicago:20200304T110000
DTEND;TZID=America/Chicago:20200304T130000
DTSTAMP:20260421T222210
CREATED:20200226T173541Z
LAST-MODIFIED:20200226T195057Z
UID:10000045-1583319600-1583326800@www.houstonisa.org
SUMMARY:Operational Excellence - Riding the Digital Wave
DESCRIPTION:In this day and age of on-going initiatives in employing smart solutions\, this presentation covers details of the road map of ensuring vital oil and gas operations are enabled to harness and reap the benefits proven digital technology. \nThe terminology maybe new\, but Digital Twins are used in production systems to provide operators timely guidance to manage and optimize the asset performance. In addition\, recent advances in Data Analytics offer valuable opportunities for further enhancements. The evolution of real-time asset performance monitoring and key global project examples will be discussed. \nLocation: \nTechnipFMC \n11720 Katy Freeway \nHouston\, TX 77079 \nPresenter: \nPrabu Parthasarathy\, Phd \nWood Automation & Control\, VP Intelligent Operations \n \nInstructions: \nAttendees should park on the first floor of the garage in visitor parking. Then proceed to the TechnipFMC reception desk on the first floor of the building for a name tag. Please wait to be escorted to the meeting room. \n 
URL:https://www.houstonisa.org/event/operational-excellence-riding-the-digital-wave/
LOCATION:TechnipFMC\, 11720 Katy Fwy\, Houston\, TX\, 77079\, United States
CATEGORIES:Event,ISA Houston Section Program
ATTACH;FMTTYPE=image/jpeg:https://www.houstonisa.org/wp-content/uploads/2020/02/1_hjlIHGshtnQzevbcWp3eQw.jpeg
ORGANIZER;CN="Clifford D. Wuertz":MAILTO:cdwuertz@gmail.com
END:VEVENT
BEGIN:VEVENT
DTSTART;TZID=America/Chicago:20200205T110000
DTEND;TZID=America/Chicago:20200205T130000
DTSTAMP:20260421T222210
CREATED:20200115T090030Z
LAST-MODIFIED:20200316T111944Z
UID:10000036-1580900400-1580907600@www.houstonisa.org
SUMMARY:Engineering Ethics Program Meeting
DESCRIPTION:ABSTRACT: \nTexas Board of Professional Engineers and Land Surveyors – Professional Practice Update/Ethics: Updates on engineering ethics and Code of Conduct\, Board Activities\, rule and statutory changes\, and general updates on Board initiatives. \nPRESENTER: \nGEORGE P. HARTMANN\, P.E. \nLICENSING PROJECT MANAGER \nTEXAS BOARD OF PROFESSIONAL ENGINEERS AND LAND SURVEYORS \nParking is available in the covered parking area west of the building.  Please check in at the front desk in the lobby area to obtain a visitor’s badge and to be escorted to the meeting room. \nMap to Thoroughbred Building \n 
URL:https://www.houstonisa.org/event/engineering-ethics-program-meeting/
LOCATION:Wood – Thoroughbred Building\, 17420 Katy Freeway\, Houston\, TX 77094 United States\, Houston\, TX\, 77094\, United States
CATEGORIES:Event,ISA Houston Section Program
ORGANIZER;CN="Clifford D. Wuertz":MAILTO:cdwuertz@gmail.com
END:VEVENT
END:VCALENDAR