BEGIN:VCALENDAR
VERSION:2.0
PRODID:-//ISA - Houston Section - ECPv6.15.18//NONSGML v1.0//EN
CALSCALE:GREGORIAN
METHOD:PUBLISH
X-ORIGINAL-URL:https://www.houstonisa.org
X-WR-CALDESC:Events for ISA - Houston Section
REFRESH-INTERVAL;VALUE=DURATION:PT1H
X-Robots-Tag:noindex
X-PUBLISHED-TTL:PT1H
BEGIN:VTIMEZONE
TZID:America/Chicago
BEGIN:DAYLIGHT
TZOFFSETFROM:-0600
TZOFFSETTO:-0500
TZNAME:CDT
DTSTART:20180311T080000
END:DAYLIGHT
BEGIN:STANDARD
TZOFFSETFROM:-0500
TZOFFSETTO:-0600
TZNAME:CST
DTSTART:20181104T070000
END:STANDARD
BEGIN:DAYLIGHT
TZOFFSETFROM:-0600
TZOFFSETTO:-0500
TZNAME:CDT
DTSTART:20190310T080000
END:DAYLIGHT
BEGIN:STANDARD
TZOFFSETFROM:-0500
TZOFFSETTO:-0600
TZNAME:CST
DTSTART:20191103T070000
END:STANDARD
BEGIN:DAYLIGHT
TZOFFSETFROM:-0600
TZOFFSETTO:-0500
TZNAME:CDT
DTSTART:20200308T080000
END:DAYLIGHT
BEGIN:STANDARD
TZOFFSETFROM:-0500
TZOFFSETTO:-0600
TZNAME:CST
DTSTART:20201101T070000
END:STANDARD
BEGIN:DAYLIGHT
TZOFFSETFROM:-0600
TZOFFSETTO:-0500
TZNAME:CDT
DTSTART:20210314T080000
END:DAYLIGHT
BEGIN:STANDARD
TZOFFSETFROM:-0500
TZOFFSETTO:-0600
TZNAME:CST
DTSTART:20211107T070000
END:STANDARD
END:VTIMEZONE
BEGIN:VEVENT
DTSTART;TZID=America/Chicago:20200209T080000
DTEND;TZID=America/Chicago:20200209T160000
DTSTAMP:20260425T114329
CREATED:20200209T223307Z
LAST-MODIFIED:20200209T223307Z
UID:10000087-1581235200-1581264000@www.houstonisa.org
SUMMARY:EC50 - Safety Instrumented Systems: A Life- Cycle Approach
DESCRIPTION:Location: \nKenexis\n15995 N Barkers Lndg Rd Ste 143 Houston\, TX 77079-2418 \nDate: \nOctober 19-23\, 2020 \nCourse Hours: 8:00 a.m.-4:00 p.m. Monday-Thursday and 8:00 a.m.-12:00 p.m. Friday \nDescription: \nThis course focuses on the engineering requirements for the specification\, design\, analysis\, and justification of safety instrumented systems for the process industries. Students will learn how to determine safety integrity levels and evaluate whether proposed or existing systems meet the performance and documentation requirements defined in the ISA84 (IEC 61511) standard. \nThis course is required for the ISA84 Safety Instrumented Systems Certificate Programs. Your course registration includes your registration for the exam. Those who successfully complete this course and pass the exam receive the designation of ISA84 SIS Fundamentals Specialist. \nYou will be able to: \n\nDifferentiate between process control and safety control\nImplement the ISA84 (IEC 61511) standard\nEvaluate process risk levels\nSelect Safety Integrity Levels (SILs) for Safety Instrumented Functions (SIFs) using a variety of techniques\nAnalyze the performance of different logic system technologies\nAnalyze the performance of various sensor\, logic\, and final element configurations\, as well as the impact of diagnostics\, test intervals\, common cause\, system size\, imperfect manual testing\, and bypassing\nDetermine optimum system test intervals\nSpecify and select safety instrumented systems\nApply the documentation requirements for process safety management\, regulations\, and industry standards\n\n  \nFor more information and to register online: \nhttps://www.isa.org/events-conferences/events-calendar/event-details/?productId=66859920
URL:https://www.houstonisa.org/event/ec50-safety-instrumented-systems-a-life-cycle-approach-2/
LOCATION:Kenexis\, 15995 N Barkers Lndg Rd Ste 143 Houston\, TX 77079-2418\, Houston\, TX\, 77079-2418\, United States
CATEGORIES:Training,Technical-Training
ORGANIZER;CN="Magda Moreno":MAILTO:magda.moreno.v@outlook.com
END:VEVENT
BEGIN:VEVENT
DTSTART;TZID=America/Chicago:20190911T180000
DTEND;TZID=America/Chicago:20190911T200000
DTSTAMP:20260425T114329
CREATED:20190925T221039Z
LAST-MODIFIED:20190930T080318Z
UID:10000110-1568224800-1568232000@www.houstonisa.org
SUMMARY:Professional Engineering (PE) Study Group for the Control Systems Exam (CSE)
DESCRIPTION:For seven years\, in the ten (10) weeks leading up to the Principles and Practice of Engineering (PE) exam for Control Systems Engineering (CSE)\, the ISA Houston Section has offered to help members prepare for the exam by hosting weekly study group sessions at a convenient local venue. In this eighth year of the initiative\, Wood has been kind enough to host the sessions at their Thoroughbred building in the Energy Corridor. \nWith a participant success rate of ~80%\, the study sessions are a valuable tool in the licensing process since the NCEES board does not have any official study material for the CSE PE exam (http://ncees.org/exams/exam-preparation-materials/exam-prep-materials/) \nPE Study Group Calendar Weekly Topics:\n\nAugust 21 – Measurement Part I\nAugust 28 – Measurement Part II\nSeptember 4 – Signals\, Transmission\, and Networking Part I\nSeptember 11 – Signals\, Transmission\, and Networking Part II\nSeptember 18 – Final Control Elements Part I\nSeptember 25 – Final Control Elements Part II\nOctober 2 – Control Systems Part I\nOctober 9 – Control Systems Part II\nOctober 16– Safety Systems Part I\nOctober 23 – Safety Systems Part II\nOctober 25 – Exam Day
URL:https://www.houstonisa.org/event/cse-pe-study-group-2019-5/
LOCATION:Wood – Thoroughbred Building\, 17420 Katy Freeway\, Houston\, TX 77094 United States\, Houston\, TX\, 77094\, United States
CATEGORIES:Professional-Engineering,Event,Training
ATTACH;FMTTYPE=image/jpeg:https://www.houstonisa.org/wp-content/uploads/2019/09/cse-pe-study-group-pic.jpg
ORGANIZER;CN="Rolando Villar":MAILTO:Rolando.Villar@outlook.com
END:VEVENT
BEGIN:VEVENT
DTSTART;TZID=America/Chicago:20190904T180000
DTEND;TZID=America/Chicago:20190904T200000
DTSTAMP:20260425T114329
CREATED:20190925T221023Z
LAST-MODIFIED:20190930T075617Z
UID:10000109-1567620000-1567627200@www.houstonisa.org
SUMMARY:Professional Engineering (PE) Study Group for the Control Systems Exam (CSE)
DESCRIPTION:For seven years\, in the ten (10) weeks leading up to the Principles and Practice of Engineering (PE) exam for Control Systems Engineering (CSE)\, the ISA Houston Section has offered to help members prepare for the exam by hosting weekly study group sessions at a convenient local venue. In this eighth year of the initiative\, Wood has been kind enough to host the sessions at their Thoroughbred building in the Energy Corridor. \nWith a participant success rate of ~80%\, the study sessions are a valuable tool in the licensing process since the NCEES board does not have any official study material for the CSE PE exam (http://ncees.org/exams/exam-preparation-materials/exam-prep-materials/) \nPE Study Group Calendar Weekly Topics:\n\nAugust 21 – Measurement Part I\nAugust 28 – Measurement Part II\nSeptember 4 – Signals\, Transmission\, and Networking Part I\nSeptember 11 – Signals\, Transmission\, and Networking Part II\nSeptember 18 – Final Control Elements Part I\nSeptember 25 – Final Control Elements Part II\nOctober 2 – Control Systems Part I\nOctober 9 – Control Systems Part II\nOctober 16– Safety Systems Part I\nOctober 23 – Safety Systems Part II\nOctober 25 – Exam Day
URL:https://www.houstonisa.org/event/cse-pe-study-group-2019-4/
LOCATION:Wood – Thoroughbred Building\, 17420 Katy Freeway\, Houston\, TX 77094 United States\, Houston\, TX\, 77094\, United States
CATEGORIES:Professional-Engineering,Event,Training
ATTACH;FMTTYPE=image/jpeg:https://www.houstonisa.org/wp-content/uploads/2019/09/cse-pe-study-group-pic.jpg
ORGANIZER;CN="Rolando Villar":MAILTO:Rolando.Villar@outlook.com
END:VEVENT
BEGIN:VEVENT
DTSTART;TZID=America/Chicago:20190828T180000
DTEND;TZID=America/Chicago:20190828T200000
DTSTAMP:20260425T114329
CREATED:20190925T221009Z
LAST-MODIFIED:20190930T075250Z
UID:10000108-1567015200-1567022400@www.houstonisa.org
SUMMARY:Professional Engineering (PE) Study Group for the Control Systems Exam (CSE)
DESCRIPTION:For seven years\, in the ten (10) weeks leading up to the Principles and Practice of Engineering (PE) exam for Control Systems Engineering (CSE)\, the ISA Houston Section has offered to help members prepare for the exam by hosting weekly study group sessions at a convenient local venue. In this eighth year of the initiative\, Wood has been kind enough to host the sessions at their Thoroughbred building in the Energy Corridor. \nWith a participant success rate of ~80%\, the study sessions are a valuable tool in the licensing process since the NCEES board does not have any official study material for the CSE PE exam (http://ncees.org/exams/exam-preparation-materials/exam-prep-materials/) \nPE Study Group Calendar Weekly Topics:\n\nAugust 21 – Measurement Part I\nAugust 28 – Measurement Part II\nSeptember 4 – Signals\, Transmission\, and Networking Part I\nSeptember 11 – Signals\, Transmission\, and Networking Part II\nSeptember 18 – Final Control Elements Part I\nSeptember 25 – Final Control Elements Part II\nOctober 2 – Control Systems Part I\nOctober 9 – Control Systems Part II\nOctober 16– Safety Systems Part I\nOctober 23 – Safety Systems Part II\nOctober 25 – Exam Day
URL:https://www.houstonisa.org/event/cse-pe-study-group-2019-3/
LOCATION:Wood – Thoroughbred Building\, 17420 Katy Freeway\, Houston\, TX 77094 United States\, Houston\, TX\, 77094\, United States
CATEGORIES:Professional-Engineering,Event,Training
ATTACH;FMTTYPE=image/jpeg:https://www.houstonisa.org/wp-content/uploads/2019/09/cse-pe-study-group-pic.jpg
ORGANIZER;CN="Rolando Villar":MAILTO:Rolando.Villar@outlook.com
END:VEVENT
BEGIN:VEVENT
DTSTART;TZID=America/Chicago:20190821T180000
DTEND;TZID=America/Chicago:20190821T200000
DTSTAMP:20260425T114329
CREATED:20190925T220952Z
LAST-MODIFIED:20190930T075140Z
UID:10000107-1566410400-1566417600@www.houstonisa.org
SUMMARY:Professional Engineering (PE) Study Group for the Control Systems Exam (CSE)
DESCRIPTION:For seven years\, in the ten (10) weeks leading up to the Principles and Practice of Engineering (PE) exam for Control Systems Engineering (CSE)\, the ISA Houston Section has offered to help members prepare for the exam by hosting weekly study group sessions at a convenient local venue. In this eighth year of the initiative\, Wood has been kind enough to host the sessions at their Thoroughbred building in the Energy Corridor. \nWith a participant success rate of ~80%\, the study sessions are a valuable tool in the licensing process since the NCEES board does not have any official study material for the CSE PE exam (http://ncees.org/exams/exam-preparation-materials/exam-prep-materials/) \nPE Study Group Calendar Weekly Topics:\n\nAugust 21 – Measurement Part I\nAugust 28 – Measurement Part II\nSeptember 4 – Signals\, Transmission\, and Networking Part I\nSeptember 11 – Signals\, Transmission\, and Networking Part II\nSeptember 18 – Final Control Elements Part I\nSeptember 25 – Final Control Elements Part II\nOctober 2 – Control Systems Part I\nOctober 9 – Control Systems Part II\nOctober 16– Safety Systems Part I\nOctober 23 – Safety Systems Part II\nOctober 25 – Exam Day
URL:https://www.houstonisa.org/event/cse-pe-study-group-2019-2/
LOCATION:Wood – Thoroughbred Building\, 17420 Katy Freeway\, Houston\, TX 77094 United States\, Houston\, TX\, 77094\, United States
CATEGORIES:Professional-Engineering,Event,Training
ATTACH;FMTTYPE=image/jpeg:https://www.houstonisa.org/wp-content/uploads/2019/09/cse-pe-study-group-pic.jpg
ORGANIZER;CN="Rolando Villar":MAILTO:Rolando.Villar@outlook.com
END:VEVENT
BEGIN:VEVENT
DTSTART;TZID=America/Chicago:20190730T080000
DTEND;TZID=America/Chicago:20190820T160000
DTSTAMP:20260425T114329
CREATED:20190917T102713Z
LAST-MODIFIED:20190917T102713Z
UID:10000098-1564473600-1566316800@www.houstonisa.org
SUMMARY:Technical Training Course Series
DESCRIPTION:The third phase in the IACS Cybersecurity Lifecycle (defined in ISA 62443-1-1) focuses on the activities associated with the ongoing operations and maintenance of IACS cybersecurity. This involves network diagnostics and troubleshooting\, security monitoring and incident response\, and maintenance of cybersecurity countermeasures implemented in the Design & Implementation phase. This phase also includes security management of change\, backup\, and recovery procedures and periodic cybersecurity audits. \nThis course will provide students with the information and skills to detect and troubleshoot potential cybersecurity events as well as the skills to maintain the security level of an operating system throughout its lifecycle despite the challenges of an ever-changing threat environment. \nYou will be able to: \n\nPerform basic network diagnostics and troubleshooting\nInterpret the results of IACS device diagnostic alarms and event logs\nDevelop and follow IACS backup and restoration procedures\nUnderstand the IACS patch management lifecycle\nDevelop and follow an IACS patch management procedure\nDevelop and follow an antivirus management procedure\nDefine the basics of application control and whitelisting tools\nDefine the basics of network and host intrusion detection\nDefine the basics of security incident and event monitoring tools\nDevelop and follow an incident response plan\nDevelop and follow an IACS management of change procedure\nConduct a basic IACS cybersecurity audit
URL:https://www.houstonisa.org/event/technical-training-course-series/
LOCATION:Kenexis\, 15995 N Barkers Lndg Rd Ste 143 Houston\, TX 77079-2418\, Houston\, TX\, 77079-2418\, United States
CATEGORIES:Training,Technical-Training
ORGANIZER;CN="Glaubyane Viana":MAILTO:glaubyanev@gmail.com
END:VEVENT
BEGIN:VEVENT
DTSTART;TZID=America/Chicago:20190603T080000
DTEND;TZID=America/Chicago:20190607T170000
DTSTAMP:20260425T114329
CREATED:20190916T125849Z
LAST-MODIFIED:20190916T125849Z
UID:10000069-1559548800-1559926800@www.houstonisa.org
SUMMARY:Technician Training Boot Camp (TTBC)
DESCRIPTION:ISA Technician Training Boot Camp combines a unique technical training course with minimum lecture and maximum hands-on experience. Over 75% of your time will be spent on equipment labs! \nThis week of intensive training will cover a broad range of technical topics needed to get the job done right. Starting with basic instrumentation fundamentals and ending with the advanced and ultimate in smart technology\, this comprehensive program will serve as a vital building block to your professional development and skills enhancement efforts. This course also serves as a solid introduction to other ISA courses that will help you advance your automation and control career. \nThis course focuses on the knowledge required by a control systems technician with five years’ experience in performing maintenance\, calibration and troubleshooting tasks typical of a plant floor environment. It will test an individual’s skill sets and serve as a self-assessment of additional training needs and will: \n\nProvide a review of industrial measurement and control concepts and terminology\nReview and Refresh present skills\nIntroduce new skills\n\nWho should attend? \n\nTechnicians with instrument maintenance responsibilities\, and a good working knowledge of instrument fundamentals and terminology.\nInstrument supervisors needing to understand and evaluate the skill sets required to perform instrument maintenance tasks.\nReliability and maintenance engineers needing to learn and/or evaluate instrument maintenance processes.\n\nObjectives: \n\nProvide an overview of industrial measurement and control in order to communicate appropriately with other control system professionals\nDefine a process to properly tune control loops\nPresent a systematic approach for troubleshooting and start-up of single- and multi-loop control loops to maintain good process control systems\nDescribe the operation and maintenance of pneumatic instruments employed in modern process facilities with an emphasis on valves\, positioners\, controllers\, and transmitters\nPerform proper installation\, calibration\, and maintenance of electronic instruments\nDeliver a working knowledge of smart field devices including both digital transmitters and digital valve controllers\n\nTo register: \nhttps://www.isa.org/events-conferences/events-calendar/event-details/?productId=63262849
URL:https://www.houstonisa.org/event/technician-training-boot-camp-ttbc-2/
LOCATION:Kenexis\, 15995 N Barkers Lndg Rd Ste 143 Houston\, TX 77079-2418\, Houston\, TX\, 77079-2418\, United States
CATEGORIES:Event,Training
ATTACH;FMTTYPE=image/jpeg:https://www.houstonisa.org/wp-content/uploads/2019/09/training.jpg
ORGANIZER;CN="Magda Moreno":MAILTO:magda.moreno.v@outlook.com
END:VEVENT
END:VCALENDAR