BEGIN:VCALENDAR
VERSION:2.0
PRODID:-//ISA - Houston Section - ECPv6.15.18//NONSGML v1.0//EN
CALSCALE:GREGORIAN
METHOD:PUBLISH
X-WR-CALNAME:ISA - Houston Section
X-ORIGINAL-URL:https://www.houstonisa.org
X-WR-CALDESC:Events for ISA - Houston Section
REFRESH-INTERVAL;VALUE=DURATION:PT1H
X-Robots-Tag:noindex
X-PUBLISHED-TTL:PT1H
BEGIN:VTIMEZONE
TZID:America/Chicago
BEGIN:DAYLIGHT
TZOFFSETFROM:-0600
TZOFFSETTO:-0500
TZNAME:CDT
DTSTART:20190310T080000
END:DAYLIGHT
BEGIN:STANDARD
TZOFFSETFROM:-0500
TZOFFSETTO:-0600
TZNAME:CST
DTSTART:20191103T070000
END:STANDARD
BEGIN:DAYLIGHT
TZOFFSETFROM:-0600
TZOFFSETTO:-0500
TZNAME:CDT
DTSTART:20200308T080000
END:DAYLIGHT
BEGIN:STANDARD
TZOFFSETFROM:-0500
TZOFFSETTO:-0600
TZNAME:CST
DTSTART:20201101T070000
END:STANDARD
BEGIN:DAYLIGHT
TZOFFSETFROM:-0600
TZOFFSETTO:-0500
TZNAME:CDT
DTSTART:20210314T080000
END:DAYLIGHT
BEGIN:STANDARD
TZOFFSETFROM:-0500
TZOFFSETTO:-0600
TZNAME:CST
DTSTART:20211107T070000
END:STANDARD
END:VTIMEZONE
BEGIN:VEVENT
DTSTART;TZID=America/Chicago:20201005T080000
DTEND;TZID=America/Chicago:20201009T170000
DTSTAMP:20260424T023829
CREATED:20200209T223040Z
LAST-MODIFIED:20200925T052349Z
UID:3144-1601884800-1602262800@www.houstonisa.org
SUMMARY:TTBC - Technician Training Boot Camp (October 2020 - TX\, IN PERSON)
DESCRIPTION:Location: \nKenexis\n15995 N Barkers Lndg Rd Ste 143 Houston\, TX 77079-2418 \nDate: \nOctober 5-9\, 2020 \nCourse Hours: \n8:00 a.m.-5:00 p.m. Monday-Thursday and 8:00 a.m.-12:00 p.m. Friday \nDescription: \nISA Technician Training Boot Camp combines a unique technical training course with minimum lecture and maximum hands-on experience. Over 75% of your time will be spent on equipment labs! \nThis week of intensive training will cover a broad range of technical topics needed to get the job done right. Starting with basic instrumentation fundamentals and ending with the advanced and ultimate in smart technology\, this comprehensive program will serve as a vital building block to your professional development and skills enhancement efforts. This course also serves as a solid introduction to other ISA courses that will help you advance your automation and control career. \nThis course focuses on the knowledge required by a control systems technician with five years’ experience in performing maintenance\, calibration and troubleshooting tasks typical of a plant floor environment. It will test an individual’s skill sets and serve as a self-assessment of additional training needs and will: \n\nProvide a review of industrial measurement and control concepts and terminology\nReview and Refresh present skills\nIntroduce new skills\n\nWho should attend? \n\nTechnicians with instrument maintenance responsibilities\, and a good working knowledge of instrument fundamentals and terminology.\nInstrument supervisors needing to understand and evaluate the skill sets required to perform instrument maintenance tasks.\nReliability and maintenance engineers needing to learn and/or evaluate instrument maintenance processes.\n\nObjectives: \n\nProvide an overview of industrial measurement and control in order to communicate appropriately with other control system professionals\nDefine a process to properly tune control loops\nPresent a systematic approach for troubleshooting and start-up of single- and multi-loop control loops to maintain good process control systems\nDescribe the operation and maintenance of pneumatic instruments employed in modern process facilities with an emphasis on valves\, positioners\, controllers\, and transmitters\nPerform proper installation\, calibration\, and maintenance of electronic instruments\nDeliver a working knowledge of smart field devices including both digital transmitters and digital valve controllers\n\n  \nFor more information: \nhttps://www.isa.org/products/technician-training-boot-camp-ttbc
URL:https://www.houstonisa.org/event/ttbc-technician-training-boot-camp-2/
LOCATION:Kenexis\, 15995 N Barkers Lndg Rd Ste 143 Houston\, TX 77079-2418\, Houston\, TX\, 77079-2418\, United States
ORGANIZER;CN="Jacqueline Buskop":MAILTO:jbuskop@wesleyan.edu
END:VEVENT
END:VCALENDAR