BEGIN:VCALENDAR
VERSION:2.0
PRODID:-//ISA - Houston Section - ECPv6.15.18//NONSGML v1.0//EN
CALSCALE:GREGORIAN
METHOD:PUBLISH
X-WR-CALNAME:ISA - Houston Section
X-ORIGINAL-URL:https://www.houstonisa.org
X-WR-CALDESC:Events for ISA - Houston Section
REFRESH-INTERVAL;VALUE=DURATION:PT1H
X-Robots-Tag:noindex
X-PUBLISHED-TTL:PT1H
BEGIN:VTIMEZONE
TZID:America/Chicago
BEGIN:DAYLIGHT
TZOFFSETFROM:-0600
TZOFFSETTO:-0500
TZNAME:CDT
DTSTART:20190310T080000
END:DAYLIGHT
BEGIN:STANDARD
TZOFFSETFROM:-0500
TZOFFSETTO:-0600
TZNAME:CST
DTSTART:20191103T070000
END:STANDARD
BEGIN:DAYLIGHT
TZOFFSETFROM:-0600
TZOFFSETTO:-0500
TZNAME:CDT
DTSTART:20200308T080000
END:DAYLIGHT
BEGIN:STANDARD
TZOFFSETFROM:-0500
TZOFFSETTO:-0600
TZNAME:CST
DTSTART:20201101T070000
END:STANDARD
BEGIN:DAYLIGHT
TZOFFSETFROM:-0600
TZOFFSETTO:-0500
TZNAME:CDT
DTSTART:20210314T080000
END:DAYLIGHT
BEGIN:STANDARD
TZOFFSETFROM:-0500
TZOFFSETTO:-0600
TZNAME:CST
DTSTART:20211107T070000
END:STANDARD
END:VTIMEZONE
BEGIN:VEVENT
DTSTART;TZID=America/Chicago:20200304T110000
DTEND;TZID=America/Chicago:20200304T130000
DTSTAMP:20260421T032845
CREATED:20200226T173541Z
LAST-MODIFIED:20200226T195057Z
UID:3179-1583319600-1583326800@www.houstonisa.org
SUMMARY:Operational Excellence - Riding the Digital Wave
DESCRIPTION:In this day and age of on-going initiatives in employing smart solutions\, this presentation covers details of the road map of ensuring vital oil and gas operations are enabled to harness and reap the benefits proven digital technology. \nThe terminology maybe new\, but Digital Twins are used in production systems to provide operators timely guidance to manage and optimize the asset performance. In addition\, recent advances in Data Analytics offer valuable opportunities for further enhancements. The evolution of real-time asset performance monitoring and key global project examples will be discussed. \nLocation: \nTechnipFMC \n11720 Katy Freeway \nHouston\, TX 77079 \nPresenter: \nPrabu Parthasarathy\, Phd \nWood Automation & Control\, VP Intelligent Operations \n \nInstructions: \nAttendees should park on the first floor of the garage in visitor parking. Then proceed to the TechnipFMC reception desk on the first floor of the building for a name tag. Please wait to be escorted to the meeting room. \n 
URL:https://www.houstonisa.org/event/operational-excellence-riding-the-digital-wave/
LOCATION:TechnipFMC\, 11720 Katy Fwy\, Houston\, TX\, 77079\, United States
CATEGORIES:Event,ISA Houston Section Program
ATTACH;FMTTYPE=image/jpeg:https://www.houstonisa.org/wp-content/uploads/2020/02/1_hjlIHGshtnQzevbcWp3eQw.jpeg
ORGANIZER;CN="Clifford D. Wuertz":MAILTO:cdwuertz@gmail.com
END:VEVENT
END:VCALENDAR