BEGIN:VCALENDAR
VERSION:2.0
PRODID:-//ISA - Houston Section - ECPv6.15.18//NONSGML v1.0//EN
CALSCALE:GREGORIAN
METHOD:PUBLISH
X-WR-CALNAME:ISA - Houston Section
X-ORIGINAL-URL:https://www.houstonisa.org
X-WR-CALDESC:Events for ISA - Houston Section
REFRESH-INTERVAL;VALUE=DURATION:PT1H
X-Robots-Tag:noindex
X-PUBLISHED-TTL:PT1H
BEGIN:VTIMEZONE
TZID:America/Chicago
BEGIN:DAYLIGHT
TZOFFSETFROM:-0600
TZOFFSETTO:-0500
TZNAME:CDT
DTSTART:20200308T080000
END:DAYLIGHT
BEGIN:STANDARD
TZOFFSETFROM:-0500
TZOFFSETTO:-0600
TZNAME:CST
DTSTART:20201101T070000
END:STANDARD
BEGIN:DAYLIGHT
TZOFFSETFROM:-0600
TZOFFSETTO:-0500
TZNAME:CDT
DTSTART:20210314T080000
END:DAYLIGHT
BEGIN:STANDARD
TZOFFSETFROM:-0500
TZOFFSETTO:-0600
TZNAME:CST
DTSTART:20211107T070000
END:STANDARD
BEGIN:DAYLIGHT
TZOFFSETFROM:-0600
TZOFFSETTO:-0500
TZNAME:CDT
DTSTART:20220313T080000
END:DAYLIGHT
BEGIN:STANDARD
TZOFFSETFROM:-0500
TZOFFSETTO:-0600
TZNAME:CST
DTSTART:20221106T070000
END:STANDARD
END:VTIMEZONE
BEGIN:VEVENT
DTSTART;TZID=America/Chicago:20210122T080000
DTEND;TZID=America/Chicago:20210122T170000
DTSTAMP:20260422T034255
CREATED:20210122T090811Z
LAST-MODIFIED:20210122T090828Z
UID:3887-1611302400-1611334800@www.houstonisa.org
SUMMARY:EN00E Certified Automation Professional CAP Exam Review Course
DESCRIPTION:Description: This self-paced\, online course reviews the knowledge and skill areas included on the Certified Automation Professional® (CAP®) certification program examination. The intent is to prepare an automation professional who meets the exam criteria to take the exam. The content is based on the Job Analysis Domains\, Tasks\, Knowledge Areas\, and Skill Areas developed as the basis for the CAP certification exam. This course is the recommended replacement for the discontinued CAP Learning System preparation tool\, as it incorporates content similarly included in that tool. \nMake sure to use HOUS2020 for $200 discount!\n  \nCertificate Program (if available) Certification of Completion: A Certificate of Completion indicating the total number of CEUs earned will be provided upon successful completion of the course. \n  \n  \n  \nYou will be able to:   \n  \n\nRecognize the scope and format of the CAP exam\nCompare process variable measurements and control valve selections\nExplain how the various types of control technologies are used in industrial automation\, including process control from basic to advanced control\, discrete\, batch\, motor\, and motion control\nAppreciate the range of digital communications used in automation\, and how these are used in system integration\nIdentify when safety instrumented systems (SISs) are needed and how they are specified\nAppreciate the importance of electrical issues that relate to grounding and noise\nDeal with the critical areas of automation opportunity identification and project justification\nIdentify the best practice methodology for automation project execution\n\n  \n  \n  \nYou will cover:  \n\n\n\n  \n\nPre-Examination\nModule 1: Introduction/CAP Basics\nModule 2: Process Instrumentation\n\n\nModule 3: Analytical Instrumentation\n\n\nModule 4: Continuous Control\nModule 5: Control Valves & Analog Communications\n\n\nModule 6: Control System Documentation & Equipment\nPractice Exam #1\n\n\nModule 7: Discrete I/O Devices & General Manufacturing Measurements\nModule 8: Motor & Drive Control\n\n\nModule 9: Motion Control\nModule 10: Process Modeling & Advanced Process Control\n\n\nModule 11: Batch Control\nModule 12: Alarm Management & Reliability\nPractice Exam #2\n\n\nModule 13: Process Safety & Safety Instrumented Systems\nModule 14: Electrical Installations & Electrical Safety\n\n\nModule 15: Digital Communications\nModule 16: Industrial Networks\n\n\nModule 17: MES Integration & Network Security\nModule 18: Operator Interface & Data Management\n\n\nModule 19: Software & Custom Software\nModule 20: Operator Training & Checkout\, System Testing & Startup\n\n\nModule 21: Troubleshooting\nModule 22: Automation Benefits\, Project Justification/Management and Interpersonal Skills\n\n\nFinal Examination
URL:https://www.houstonisa.org/event/en00e-certified-automation-professional-cap-exam-review-course/
CATEGORIES:Training,CapCcst-ExamReview
END:VEVENT
END:VCALENDAR