BEGIN:VCALENDAR
VERSION:2.0
PRODID:-//ISA - Houston Section - ECPv6.15.18//NONSGML v1.0//EN
CALSCALE:GREGORIAN
METHOD:PUBLISH
X-WR-CALNAME:ISA - Houston Section
X-ORIGINAL-URL:https://www.houstonisa.org
X-WR-CALDESC:Events for ISA - Houston Section
REFRESH-INTERVAL;VALUE=DURATION:PT1H
X-Robots-Tag:noindex
X-PUBLISHED-TTL:PT1H
BEGIN:VTIMEZONE
TZID:America/Chicago
BEGIN:DAYLIGHT
TZOFFSETFROM:-0600
TZOFFSETTO:-0500
TZNAME:CDT
DTSTART:20200308T080000
END:DAYLIGHT
BEGIN:STANDARD
TZOFFSETFROM:-0500
TZOFFSETTO:-0600
TZNAME:CST
DTSTART:20201101T070000
END:STANDARD
BEGIN:DAYLIGHT
TZOFFSETFROM:-0600
TZOFFSETTO:-0500
TZNAME:CDT
DTSTART:20210314T080000
END:DAYLIGHT
BEGIN:STANDARD
TZOFFSETFROM:-0500
TZOFFSETTO:-0600
TZNAME:CST
DTSTART:20211107T070000
END:STANDARD
BEGIN:DAYLIGHT
TZOFFSETFROM:-0600
TZOFFSETTO:-0500
TZNAME:CDT
DTSTART:20220313T080000
END:DAYLIGHT
BEGIN:STANDARD
TZOFFSETFROM:-0500
TZOFFSETTO:-0600
TZNAME:CST
DTSTART:20221106T070000
END:STANDARD
END:VTIMEZONE
BEGIN:VEVENT
DTSTART;TZID=America/Chicago:20211027T080000
DTEND;TZID=America/Chicago:20211028T160000
DTSTAMP:20260424T062524
CREATED:20210728T174600Z
LAST-MODIFIED:20210728T174600Z
UID:4162-1635321600-1635436800@www.houstonisa.org
SUMMARY:Advanced Design and SIL Verification (EC54)
DESCRIPTION:Certification of Completion: A Certificate of Completion indicating the total number of CEUs earned will be provided upon successful completion of the course. \nCertificate Program: This course is required for the ISA84 Safety Instrumented Systems Certificate Program 3. When you register for the course\, the certificate exam is included with your registration. Please send an email to info@isa.org for further requirements for the exam. ISA Course Safety Instrumented Systems: A Life-Cycle Approach (EC50) or Safety Instrumented Systems: A Life-Cycle Approach (EC50E) and ISA Certificate Safety Instrumented Systems Certificate Program 1 are prerequisites for Certificate Program 3. Those who successfully complete this course and pass the certificate program exam receive the designation of ISA84 SIL Verification Specialist. \nDescription: \nThis course focuses on more detailed design issues and further hands-on examples of system analysis/modeling. Students will be better able to perform system design and analysis thus saving their companies time and money in optimizing system designs. This course will enable you to analyze any system technology and configuration to see if it will meet the required SIL (Safety Integrity Level) and determine if existing systems are safe enough\, if they need to be upgraded\, and whether proposed systems will meet the performance requirements. You will also be able to determine the optimum manual test interval for any system\, saving your company time and money by not over- or under-testing systems. \n  \nYou will be able to: \n\nAnalyze any system technology and configuration to see if it will meet the required SIL (Safety Integrity Level)\nDetermine if existing systems are safe enough (or whether they need to be upgraded) and whether proposed systems will meet the performance requirements\nDetermine the optimum manual test interval for any system\, saving your company time and money by not over or under-testing systems\n\n  \nYou will cover: \n\nSystem Modeling/Analysis Hands-On Advanced Examples: Multiple Examples with Different Field Device Technologies | Configurations | Diagnostic Levels | Test Intervals | Common Cause Factors | Imperfect Manual Testing\nDetailed Design Topics: Fault Tolerance | Safe Failure Fraction | Diagnostic Coverage | Confidence Limits | System Response to Faults | Using Devices for Control and Safety | Non Fail-Safe Design Requirements | Interface Requirements\n\nClassroom/Laboratory Exercises: \n“Laboratory/Application Exercises really good on driving you to think.” \n—Thomas Jackson\, EC54 Student \n\nThe course consists of multiple application exercises of system modeling/analysis\n\nA hand-held/scientific calculator should be brought to class. \nClassroom Copies of ISA/IEC 61511 standards will be provided for your use during the course \nTextbook Included: Safety Instrumented Systems Verification – Practical Probabilistic Calculations by William Goble and Harry Cheddie \nRecommended Course Prerequisites: \n\nISA course Safety Instrumented Systems-Design\, Analysis\, and Justification (EC50 or EC50E) or fundamental understanding of Safety Instrumented Systems\n\nNot sure this particular course is for you? \nA pre-instructional survey is available for you to evaluate your level of understanding of the course material and to show you the types of questions you’ll be able to answer after completing the course. \nRelated Files \nPre Instructional Survey (Adobe PDF File)
URL:https://www.houstonisa.org/event/advanced-design-and-sil-verification-ec54/
LOCATION:Kenexis\, 15995 N Barkers Lndg Rd Ste 143 Houston\, TX 77079-2418\, Houston\, TX\, 77079-2418\, United States
CATEGORIES:Training,Safety
ORGANIZER;CN="Glen Wood":MAILTO:glnwd15@gmail.com
END:VEVENT
END:VCALENDAR